BEGIN:VCALENDAR
VERSION:2.0
PRODID:-//ChamberMaster//Event Calendar 2.0//EN
METHOD:PUBLISH
X-PUBLISHED-TTL:P1H
REFRESH-INTERVAL:P1H
CALSCALE:GREGORIAN
BEGIN:VTIMEZONE
TZID:America/Chicago
BEGIN:DAYLIGHT
RRULE:FREQ=YEARLY;BYMONTH=3;BYDAY=2SU
DTSTART:20070101T000000
TZOFFSETFROM:-0600
TZOFFSETTO:-0500
TZNAME:Central Daylight Time
END:DAYLIGHT
BEGIN:STANDARD
RRULE:FREQ=YEARLY;BYMONTH=11;BYDAY=1SU
DTSTART:20070101T000000
TZOFFSETFROM:-0500
TZOFFSETTO:-0600
TZNAME:Central Standard Time
END:STANDARD
END:VTIMEZONE
BEGIN:VEVENT
DTSTART;TZID=America/Chicago:20260411T120000
DTEND;TZID=America/Chicago:20260411T160000
X-MICROSOFT-CDO-ALLDAYEVENT:FALSE
SUMMARY:New Communities Grand Openings: Bella Terra & Piper's Landing (Realtors are Welcome!)
DESCRIPTION:Save the date for the debut of Pipers Landing and Bella Terra on Saturday\, April 11 from 11am 4pm. Tour our brand-new\, beautifully decorated welcome home center and take advantage of special grand opening incentives. This is your opportunity to find a home you'll love and experience everything Lennar has to offer. \nPiper's Landing Interest List Interest Link for Bella Terra
X-ALT-DESC;FMTTYPE=text/html:<!DOCTYPE html><html><head><title></title></head><body aria-disabled="false"><p><span style="color: rgb(0\, 0\, 0)\; font-family: Georgia\, serif\; font-size: 18px\;">Save the date for the debut of Pipers Landing and Bella Terra on Saturday\, April 11 from 11am&ndash\;4pm.&nbsp\;</span></p><p><span style="font-size: 18px\;"><span style="color: rgb(0\, 0\, 0)\;"><span style="font-family: Georgia\,serif\;">Tour our brand-new\, beautifully decorated welcome home center and take advantage of special grand opening incentives.&nbsp\;</span></span></span></p><p><span style="font-size: 18px\;"><span style="color: rgb(0\, 0\, 0)\;"><span style="font-family: Georgia\, serif\;">This is your opportunity to find a home you&rsquo\;ll love and experience everything Lennar has to offer.</span></span></span><span style="color: rgb(44\, 130\, 201)\; font-size: 18px\;">&nbsp\;</span></p><p><br></p><p><span style="color: rgb(41\, 105\, 176)\;"><a fr-original-style="" href="https://www.lennar.com/new-homes/florida/pensacola/event/pipers-landing-grand-opening" style="user-select: auto\; color: inherit\;"><strong fr-original-style="" style="font-weight: 700\;">Piper&#39\;s Landing Interest List</strong></a><strong fr-original-style="" style="font-weight: 700\;"><u>&nbsp\;</u></strong></span></p><p><span style="color: rgb(41\, 105\, 176)\;"><a fr-original-style="" href="https://www.lennar.com/new-homes/florida/pensacola/event/bella-terra-grand-opening" style="user-select: auto\; color: inherit\;"><strong fr-original-style="" style="font-weight: 700\;">Interest Link for Bella Terra</strong></a><a fr-original-style="" href="https://www.lennar.com/new-homes/florida/pensacola/event/bella-terra-grand-opening" style="user-select: auto\; color: inherit\;"><strong fr-original-style="" style="font-weight: 700\;">&nbsp\;</strong></a></span></p><p><br></p></body></html>
LOCATION:7737 Palm Vista Court Pensacola\, FL 32526 807 Bella Terra Way Cantonment FL 32534
UID:e.4427.1437383
SEQUENCE:3
DTSTAMP:20260423T093828Z
URL:https://business.pensacolachamber.com/chambercalendar/Details/new-communities-grand-openings-bella-terra-piper-s-landing-realtors-are-welcome-1701323?sourceTypeId=Hub
END:VEVENT
END:VCALENDAR
