BEGIN:VCALENDAR
VERSION:2.0
PRODID:-//ChamberMaster//Event Calendar 2.0//EN
METHOD:PUBLISH
X-PUBLISHED-TTL:P1H
REFRESH-INTERVAL:P1H
CALSCALE:GREGORIAN
BEGIN:VTIMEZONE
TZID:America/Chicago
BEGIN:DAYLIGHT
RRULE:FREQ=YEARLY;BYMONTH=3;BYDAY=2SU
DTSTART:20070101T000000
TZOFFSETFROM:-0600
TZOFFSETTO:-0500
TZNAME:Central Daylight Time
END:DAYLIGHT
BEGIN:STANDARD
RRULE:FREQ=YEARLY;BYMONTH=11;BYDAY=1SU
DTSTART:20070101T000000
TZOFFSETFROM:-0500
TZOFFSETTO:-0600
TZNAME:Central Standard Time
END:STANDARD
END:VTIMEZONE
BEGIN:VEVENT
DTSTART;TZID=America/Chicago:20260504T170000
DTEND;TZID=America/Chicago:20260504T190000
X-MICROSOFT-CDO-ALLDAYEVENT:FALSE
SUMMARY:Glow & Grow: A Beauty and Wellness Industry Mixer
DESCRIPTION:Glow & Grow is a dynamic beauty and wellness industry mixer designed to connect professionals with valuable health and business resources.Glow & Grow is a dynamic beauty and wellness industry mixer designed to connect professionals with valuable health and business resources. Guests will have the opportunity to engage with insurance agents to learn about medical coverage options or receive support with their current Florida Blue plans. Our care team will be on-site offering health screenings for members and sharing information about wellness programs available to all at the center. Enjoy light refreshments\, networking\, and a collaborative atmosphere. Come ready to connect\, learn\, and grow!RSVP Link:https://www.eventbrite.com/e/glow-grow-a-beauty-and-wellness-industry-mixer-tickets-1986446122827?utm-campaign=social&utm-content=attendeeshare&utm-medium=discovery&utm-term=listing&utm-source=cp&aff=ebdsshcopyurl
X-ALT-DESC;FMTTYPE=text/html:<!DOCTYPE html><html><head><title></title></head><body aria-disabled="false"><div style='box-sizing: border-box\; padding: 0px 0px 16px\; margin: 0px\; font-style: normal\; font-weight: 600\; line-height: 31.92px\; font-size: 24px\; color: rgb(38\, 27\, 54)\; font-family: "Neue Plak"\, -apple-system\, BlinkMacSystemFont\, Roboto\, "Helvetica Neue"\, Helvetica\, Tahoma\, Arial\, sans-serif\; font-variant-ligatures: normal\; font-variant-caps: normal\; letter-spacing: normal\; orphans: 2\; text-align: start\; text-indent: 0px\; text-transform: none\; widows: 2\; word-spacing: 0px\; -webkit-text-stroke-width: 0px\; white-space: normal\; text-decoration-thickness: initial\; text-decoration-style: initial\; text-decoration-color: initial\;'><div data-testid="text-content" style="box-sizing: border-box\; padding: 0px\; margin: 0px\; color: rgb(88\, 81\, 99)\; align-self: stretch\; overflow: hidden\; text-overflow: ellipsis\; font-weight: 400\; line-height: 23.94px\; letter-spacing: 0.1px\; font-size: 18px\;"><div style="box-sizing: border-box\; padding: 0px\; margin: 0px\;"><p style="box-sizing: border-box\; padding: 0px 0px 12px\; margin: 0px\;">Glow &amp\; Grow is a dynamic beauty and wellness industry mixer designed to connect professionals with valuable health and business resources.</p></div></div><div data-testid="text-content" style="box-sizing: border-box\; padding: 0px\; margin: 0px\; color: rgb(88\, 81\, 99)\; align-self: stretch\; overflow: hidden\; text-overflow: ellipsis\; font-weight: 400\; line-height: 23.94px\; letter-spacing: 0.1px\; font-size: 18px\;"><div style="box-sizing: border-box\; padding: 0px\; margin: 0px\;"><p style="box-sizing: border-box\; padding: 0px 0px 12px\; margin: 0px\;">Glow &amp\; Grow is a dynamic beauty and wellness industry mixer designed to connect professionals with valuable health and business resources. Guests will have the opportunity to engage with insurance agents to learn about medical coverage options or receive support with their current Florida Blue plans. Our care team will be on-site offering health screenings for members and sharing information about wellness programs available to all at the center. Enjoy light refreshments\, networking\, and a collaborative atmosphere. Come ready to connect\, learn\, and grow!</p></div></div></div><p>RSVP Link:</p><p><strong fr-original-style="" style="font-weight: 700\;"><a fr-original-style="" href="https://www.eventbrite.com/e/glow-grow-a-beauty-and-wellness-industry-mixer-tickets-1986446122827?utm-campaign=social&utm-content=attendeeshare&utm-medium=discovery&utm-term=listing&utm-source=cp&aff=ebdsshcopyurl" style="user-select: auto\;">https://www.eventbrite.com/e/glow-grow-a-beauty-and-wellness-industry-mixer-tickets-1986446122827?utm-campaign=social&amp\;utm-content=attendeeshare&amp\;utm-medium=discovery&amp\;utm-term=listing&amp\;utm-source=cp&amp\;aff=ebdsshcopyurl</a></strong></p></body></html>
LOCATION:
UID:e.4427.1442305
SEQUENCE:3
DTSTAMP:20260421T111821Z
URL:https://business.pensacolachamber.com/chambercalendar/Details/glow-grow-a-beauty-and-wellness-industry-mixer-1708190?sourceTypeId=Hub
END:VEVENT
END:VCALENDAR
