BEGIN:VCALENDAR
VERSION:2.0
PRODID:-//ChamberMaster//Event Calendar 2.0//EN
METHOD:PUBLISH
X-PUBLISHED-TTL:P1H
REFRESH-INTERVAL:P1H
CALSCALE:GREGORIAN
BEGIN:VTIMEZONE
TZID:America/Chicago
BEGIN:DAYLIGHT
RRULE:FREQ=YEARLY;BYMONTH=3;BYDAY=2SU
DTSTART:20070101T000000
TZOFFSETFROM:-0600
TZOFFSETTO:-0500
TZNAME:Central Daylight Time
END:DAYLIGHT
BEGIN:STANDARD
RRULE:FREQ=YEARLY;BYMONTH=11;BYDAY=1SU
DTSTART:20070101T000000
TZOFFSETFROM:-0500
TZOFFSETTO:-0600
TZNAME:Central Standard Time
END:STANDARD
END:VTIMEZONE
BEGIN:VEVENT
DTSTART;TZID=America/Chicago:20260823T130000
DTEND;TZID=America/Chicago:20260823T160000
X-MICROSOFT-CDO-ALLDAYEVENT:FALSE
SUMMARY:Coastal Weddings Expo Destin
DESCRIPTION:Six months of wedding planning in one day with show-only specials and exclusive offers\n\nHere's what to expect:\n- NEW Bridal runway show!\n- Food tastings!\n- Mocktails and refreshments!\n- Florals and event design!\n- DJs and entertainment!\n- Local venues!\n- Planners\, photographers\, and more!\n\nBring your wedding crew and make a day of it! We can't wait to see you there!
X-ALT-DESC;FMTTYPE=text/html:Six months of wedding planning in one day with show-only specials and exclusive offers\n\nHere's what to expect:\n- NEW Bridal runway show!\n- Food tastings!\n- Mocktails and refreshments!\n- Florals and event design!\n- DJs and entertainment!\n- Local venues!\n- Planners\, photographers\, and more!\n\nBring your wedding crew and make a day of it! We can't wait to see you there!
LOCATION:1250 Miracle Strip Pkwy SE Fort Walton Beach FL 32548
UID:e.4427.1446525
SEQUENCE:3
DTSTAMP:20260421T111909Z
URL:https://business.pensacolachamber.com/chambercalendar/Details/coastal-weddings-expo-destin-1713275?sourceTypeId=Hub
END:VEVENT
END:VCALENDAR
