BEGIN:VCALENDAR
VERSION:2.0
PRODID:-//ChamberMaster//Event Calendar 2.0//EN
METHOD:PUBLISH
X-PUBLISHED-TTL:P1H
REFRESH-INTERVAL:P1H
CALSCALE:GREGORIAN
BEGIN:VTIMEZONE
TZID:America/Chicago
BEGIN:DAYLIGHT
RRULE:FREQ=YEARLY;BYMONTH=3;BYDAY=2SU
DTSTART:20070101T000000
TZOFFSETFROM:-0600
TZOFFSETTO:-0500
TZNAME:Central Daylight Time
END:DAYLIGHT
BEGIN:STANDARD
RRULE:FREQ=YEARLY;BYMONTH=11;BYDAY=1SU
DTSTART:20070101T000000
TZOFFSETFROM:-0500
TZOFFSETTO:-0600
TZNAME:Central Standard Time
END:STANDARD
END:VTIMEZONE
BEGIN:VEVENT
DTSTART;TZID=America/Chicago:20260614T160000
DTEND;TZID=America/Chicago:20260614T190000
X-MICROSOFT-CDO-ALLDAYEVENT:FALSE
SUMMARY:Bride's Night Wedding Expo
DESCRIPTION:Six months of wedding planning in one day with show-only specials and exclusive offers.\n\nHere's what to expect:\n- Food tastings!\n- Mocktails and refreshments!\n- Florals and event design!\n- DJs and entertainment!\n- Bridal fashion!\n- Local venues!\n- Planners\, photographers\, and more!\n\nSpend your evening sampling services and booking with vendors! Find inspiration\, make memories\, and meet your future wedding team!
X-ALT-DESC;FMTTYPE=text/html:Six months of wedding planning in one day with show-only specials and exclusive offers.\n\nHere's what to expect:\n- Food tastings!\n- Mocktails and refreshments!\n- Florals and event design!\n- DJs and entertainment!\n- Bridal fashion!\n- Local venues!\n- Planners\, photographers\, and more!\n\nSpend your evening sampling services and booking with vendors! Find inspiration\, make memories\, and meet your future wedding team!
LOCATION:913 South I St. Pensacola FL 32502
UID:e.4427.1445805
SEQUENCE:3
DTSTAMP:20260421T111248Z
URL:https://business.pensacolachamber.com/chambercalendar/Details/bride-s-night-wedding-expo-1712458?sourceTypeId=Hub
END:VEVENT
END:VCALENDAR
